BEGIN:VCALENDAR
VERSION:2.0
PRODID:-//wp-events-plugin.com//7.2.3.1//EN
BEGIN:VEVENT
UID:23@asbl-sypa.be
DTSTART;TZID=Europe/Brussels:20230615T081500
DTEND;TZID=Europe/Brussels:20230615T154500
DTSTAMP:20230613T113918Z
URL:https://asbl-sypa.be/evenements/journee-sypa-innovation-sociale/
SUMMARY:Journée d'étude sur l'innovation sociale
DESCRIPTION:Vous l'avez compris\, nous vous invitons à une journée peu or
 dinaire sous le signe du lien\, des nouvelles façons de l'apprivoiser\, e
 t de l'innovation sociale.
CATEGORIES:Formation
LOCATION:Centre Marcel  Hicter\, Chemin des Marronniers\, 26 \, Wépion\, 5
 100\, Belgique
GEO:50.42777;4.84215
X-APPLE-STRUCTURED-LOCATION;VALUE=URI;X-ADDRESS=Chemin des Marronniers\, 26
  \, Wépion\, 5100\, Belgique;X-APPLE-RADIUS=100;X-TITLE=Centre Marcel  Hi
 cter:geo:50.42777,4.84215
END:VEVENT
BEGIN:VTIMEZONE
TZID:Europe/Brussels
X-LIC-LOCATION:Europe/Brussels
BEGIN:DAYLIGHT
DTSTART:20230326T030000
TZOFFSETFROM:+0100
TZOFFSETTO:+0200
TZNAME:CEST
END:DAYLIGHT
END:VTIMEZONE
END:VCALENDAR